BEGIN:VCALENDAR
VERSION:2.0
PRODID:http://www.kufer.de/kuferweb / DE
METHOD:PUBLISH
CALSCALE:GREGORIAN
X-WR-TIMEZONE:Europe/Berlin
BEGIN:VTIMEZONE
TZID:Europe/Berlin
X-LIC-LOCATION:Europe/Berlin
BEGIN:DAYLIGHT
TZOFFSETFROM:+0100
TZOFFSETTO:+0200
TZNAME:CEST
DTSTART;TZID=Europe/Berlin:19700329T020000
RRULE:FREQ=YEARLY;INTERVAL=1;BYDAY=-1SU;BYMONTH=3
END:DAYLIGHT
BEGIN:STANDARD
TZOFFSETFROM:+0200
TZOFFSETTO:+0100
TZNAME:CET
DTSTART;TZID=Europe/Berlin:19701025T030000
RRULE:FREQ=YEARLY;INTERVAL=1;BYDAY=-1SU;BYMONTH=10
END:STANDARD
END:VTIMEZONE
BEGIN:VEVENT
DTSTAMP:20260420T175351
DTSTART;TZID=Europe/Berlin:20260704T130000
DTEND;TZID=Europe/Berlin:20260704T190000
UID:26-INF-070-20260704T130000@LJSLANDESJAGDVERBAND BADEN-WÜRTTEMBERG E.V.
SUMMARY:Praxisseminar Erste Hilfe für Jagdhunde (26-INF-070) 
LOCATION:Jagdschule der KJV Hohenlohe, Grünbühl 9, 74632 Neuenstein-Grünbühl
END:VEVENT
END:VCALENDAR